BEGIN:VCALENDAR
METHOD:REQUEST
VERSION:2.0
PRODID:-//GREENFIELD INC//GREENFIELD//EN
BEGIN:VEVENT
DTSTAMP:20260421T084644Z
SEQUENCE:0
UID:
ORGANIZER;CN=GreenField:mailto:admin@high.net
DTSTART:20260512T210000Z
DTEND:20260512T223000Z
CATEGORIES:MEETING
CLASS:PUBLIC
SUMMARY:Speaker Series at Greenfield
DESCRIPTION:
X-ALT-DESC;FMTTYPE=text/html:
LOCATION:S. Dale High Leadership Center (1861 William Penn Way)
END:VEVENT
END:VCALENDAR
